BEGIN:VCALENDAR
VERSION:2.0
PRODID:-//ChurchDev//Events//EN
CALSCALE:GREGORIAN
METHOD:PUBLISH
BEGIN:VEVENT
UID:4218-20220325@www.romeoumc.com
SUMMARY:Lenten Fish Fry
DTSTART:20220325T203000Z
DTEND:20220325T230000Z
DESCRIPTION:https://www.romeoumc.com/events/lenten-fish-fry/
LOCATION:280 N. Main St. Romeo\, MI 48065
URL:https://www.romeoumc.com/events/lenten-fish-fry/
DTSTAMP:20260419T220327Z
END:VEVENT
END:VCALENDAR
